BEGIN:VCALENDAR
VERSION:2.0
PRODID:-//Moose Pond Association - ECPv6.15.17//NONSGML v1.0//EN
CALSCALE:GREGORIAN
METHOD:PUBLISH
X-WR-CALNAME:Moose Pond Association
X-ORIGINAL-URL:https://moosepondassociation.org
X-WR-CALDESC:Events for Moose Pond Association
REFRESH-INTERVAL;VALUE=DURATION:PT1H
X-Robots-Tag:noindex
X-PUBLISHED-TTL:PT1H
BEGIN:VTIMEZONE
TZID:America/New_York
BEGIN:DAYLIGHT
TZOFFSETFROM:-0500
TZOFFSETTO:-0400
TZNAME:EDT
DTSTART:20190310T070000
END:DAYLIGHT
BEGIN:STANDARD
TZOFFSETFROM:-0400
TZOFFSETTO:-0500
TZNAME:EST
DTSTART:20191103T060000
END:STANDARD
BEGIN:DAYLIGHT
TZOFFSETFROM:-0500
TZOFFSETTO:-0400
TZNAME:EDT
DTSTART:20200308T070000
END:DAYLIGHT
BEGIN:STANDARD
TZOFFSETFROM:-0400
TZOFFSETTO:-0500
TZNAME:EST
DTSTART:20201101T060000
END:STANDARD
BEGIN:DAYLIGHT
TZOFFSETFROM:-0500
TZOFFSETTO:-0400
TZNAME:EDT
DTSTART:20210314T070000
END:DAYLIGHT
BEGIN:STANDARD
TZOFFSETFROM:-0400
TZOFFSETTO:-0500
TZNAME:EST
DTSTART:20211107T060000
END:STANDARD
END:VTIMEZONE
BEGIN:VEVENT
DTSTART;VALUE=DATE:20200901
DTEND;VALUE=DATE:20201002
DTSTAMP:20260425T104551
CREATED:20200729T032940Z
LAST-MODIFIED:20251014T174822Z
UID:5521-1598918400-1601596799@moosepondassociation.org
SUMMARY:Say Thank You to Our Boat Inspectors
DESCRIPTION:
URL:https://moosepondassociation.org/event/moose-pond-association-annual-meeting/
ATTACH;FMTTYPE=image/jpeg:https://moosepondassociation.org/wp-content/uploads/2018/03/milfoil-stems.jpg
END:VEVENT
END:VCALENDAR